BEGIN:VCALENDAR
VERSION:2.0
PRODID:-//Casa Ação Cultural - ECPv6.14.2//NONSGML v1.0//EN
CALSCALE:GREGORIAN
METHOD:PUBLISH
X-WR-CALNAME:Casa Ação Cultural
X-ORIGINAL-URL:https://acaocultural.org.br
X-WR-CALDESC:Eventos para Casa Ação Cultural
REFRESH-INTERVAL;VALUE=DURATION:PT1H
X-Robots-Tag:noindex
X-PUBLISHED-TTL:PT1H
BEGIN:VTIMEZONE
TZID:America/Sao_Paulo
BEGIN:STANDARD
TZOFFSETFROM:-0300
TZOFFSETTO:-0300
TZNAME:-03
DTSTART:20230101T000000
END:STANDARD
END:VTIMEZONE
BEGIN:VEVENT
DTSTART;TZID=America/Sao_Paulo:20231010T180000
DTEND;TZID=America/Sao_Paulo:20231011T223000
DTSTAMP:20260420T175030
CREATED:20231009T195041Z
LAST-MODIFIED:20231009T195115Z
UID:10000006-1696960800-1697063400@acaocultural.org.br
SUMMARY:Conf. Municipal de Cultura de Tijucas
DESCRIPTION:O Ação Cultural estará presente da Conf. Municipal de Cultura de Tijucas 2023 a ser realizada nos dias 10 e 11 de outubro de 2023.
URL:https://acaocultural.org.br/evento/conf-municipal-de-cultura-de-tijucas/
END:VEVENT
BEGIN:VEVENT
DTSTART;TZID=America/Sao_Paulo:20250623T133000
DTEND;TZID=America/Sao_Paulo:20251023T173000
DTSTAMP:20260420T175030
CREATED:20231117T190548Z
LAST-MODIFIED:20251023T181703Z
UID:10000049-1750685400-1761240600@acaocultural.org.br
SUMMARY:Talentos da Maturidade - Pintura em Tela
DESCRIPTION:Aula de Pintura em Tela para pessoas 60+.
URL:https://acaocultural.org.br/evento/inauguracao-da-cozinha-afetiva/2025-06-23/
LOCATION:Casa Ação Cultural\, Rua Monsenhor Augusto Zucco\, 653\, Tijucas\, Santa Catarina\, Brasil
END:VEVENT
BEGIN:VEVENT
DTSTART;TZID=America/Sao_Paulo:20250630T133000
DTEND;TZID=America/Sao_Paulo:20251030T173000
DTSTAMP:20260420T175030
CREATED:20231117T190548Z
LAST-MODIFIED:20251023T181703Z
UID:10000050-1751290200-1761845400@acaocultural.org.br
SUMMARY:Talentos da Maturidade - Pintura em Tela
DESCRIPTION:Aula de Pintura em Tela para pessoas 60+.
URL:https://acaocultural.org.br/evento/inauguracao-da-cozinha-afetiva/2025-06-30/
LOCATION:Casa Ação Cultural\, Rua Monsenhor Augusto Zucco\, 653\, Tijucas\, Santa Catarina\, Brasil
END:VEVENT
BEGIN:VEVENT
DTSTART;TZID=America/Sao_Paulo:20250707T133000
DTEND;TZID=America/Sao_Paulo:20251106T173000
DTSTAMP:20260420T175030
CREATED:20231117T190548Z
LAST-MODIFIED:20251023T181703Z
UID:10000051-1751895000-1762450200@acaocultural.org.br
SUMMARY:Talentos da Maturidade - Pintura em Tela
DESCRIPTION:Aula de Pintura em Tela para pessoas 60+.
URL:https://acaocultural.org.br/evento/inauguracao-da-cozinha-afetiva/2025-07-07/
LOCATION:Casa Ação Cultural\, Rua Monsenhor Augusto Zucco\, 653\, Tijucas\, Santa Catarina\, Brasil
END:VEVENT
BEGIN:VEVENT
DTSTART;TZID=America/Sao_Paulo:20250714T133000
DTEND;TZID=America/Sao_Paulo:20251113T173000
DTSTAMP:20260420T175030
CREATED:20231117T190548Z
LAST-MODIFIED:20251023T181703Z
UID:10000052-1752499800-1763055000@acaocultural.org.br
SUMMARY:Talentos da Maturidade - Pintura em Tela
DESCRIPTION:Aula de Pintura em Tela para pessoas 60+.
URL:https://acaocultural.org.br/evento/inauguracao-da-cozinha-afetiva/2025-07-14/
LOCATION:Casa Ação Cultural\, Rua Monsenhor Augusto Zucco\, 653\, Tijucas\, Santa Catarina\, Brasil
END:VEVENT
BEGIN:VEVENT
DTSTART;TZID=America/Sao_Paulo:20250721T133000
DTEND;TZID=America/Sao_Paulo:20251120T173000
DTSTAMP:20260420T175030
CREATED:20231117T190548Z
LAST-MODIFIED:20251023T181703Z
UID:10000053-1753104600-1763659800@acaocultural.org.br
SUMMARY:Talentos da Maturidade - Pintura em Tela
DESCRIPTION:Aula de Pintura em Tela para pessoas 60+.
URL:https://acaocultural.org.br/evento/inauguracao-da-cozinha-afetiva/2025-07-21/
LOCATION:Casa Ação Cultural\, Rua Monsenhor Augusto Zucco\, 653\, Tijucas\, Santa Catarina\, Brasil
END:VEVENT
BEGIN:VEVENT
DTSTART;TZID=America/Sao_Paulo:20250728T133000
DTEND;TZID=America/Sao_Paulo:20251127T173000
DTSTAMP:20260420T175030
CREATED:20231117T190548Z
LAST-MODIFIED:20251023T181703Z
UID:10000054-1753709400-1764264600@acaocultural.org.br
SUMMARY:Talentos da Maturidade - Pintura em Tela
DESCRIPTION:Aula de Pintura em Tela para pessoas 60+.
URL:https://acaocultural.org.br/evento/inauguracao-da-cozinha-afetiva/2025-07-28/
LOCATION:Casa Ação Cultural\, Rua Monsenhor Augusto Zucco\, 653\, Tijucas\, Santa Catarina\, Brasil
END:VEVENT
BEGIN:VEVENT
DTSTART;TZID=America/Sao_Paulo:20250804T133000
DTEND;TZID=America/Sao_Paulo:20251204T173000
DTSTAMP:20260420T175030
CREATED:20231117T190548Z
LAST-MODIFIED:20251023T181703Z
UID:10000055-1754314200-1764869400@acaocultural.org.br
SUMMARY:Talentos da Maturidade - Pintura em Tela
DESCRIPTION:Aula de Pintura em Tela para pessoas 60+.
URL:https://acaocultural.org.br/evento/inauguracao-da-cozinha-afetiva/2025-08-04/
LOCATION:Casa Ação Cultural\, Rua Monsenhor Augusto Zucco\, 653\, Tijucas\, Santa Catarina\, Brasil
END:VEVENT
BEGIN:VEVENT
DTSTART;TZID=America/Sao_Paulo:20250811T133000
DTEND;TZID=America/Sao_Paulo:20251211T173000
DTSTAMP:20260420T175030
CREATED:20231117T190548Z
LAST-MODIFIED:20251023T181703Z
UID:10000056-1754919000-1765474200@acaocultural.org.br
SUMMARY:Talentos da Maturidade - Pintura em Tela
DESCRIPTION:Aula de Pintura em Tela para pessoas 60+.
URL:https://acaocultural.org.br/evento/inauguracao-da-cozinha-afetiva/2025-08-11/
LOCATION:Casa Ação Cultural\, Rua Monsenhor Augusto Zucco\, 653\, Tijucas\, Santa Catarina\, Brasil
END:VEVENT
BEGIN:VEVENT
DTSTART;TZID=America/Sao_Paulo:20250818T133000
DTEND;TZID=America/Sao_Paulo:20251218T173000
DTSTAMP:20260420T175030
CREATED:20231117T190548Z
LAST-MODIFIED:20251023T181703Z
UID:10000057-1755523800-1766079000@acaocultural.org.br
SUMMARY:Talentos da Maturidade - Pintura em Tela
DESCRIPTION:Aula de Pintura em Tela para pessoas 60+.
URL:https://acaocultural.org.br/evento/inauguracao-da-cozinha-afetiva/2025-08-18/
LOCATION:Casa Ação Cultural\, Rua Monsenhor Augusto Zucco\, 653\, Tijucas\, Santa Catarina\, Brasil
END:VEVENT
BEGIN:VEVENT
DTSTART;TZID=America/Sao_Paulo:20250825T133000
DTEND;TZID=America/Sao_Paulo:20251225T173000
DTSTAMP:20260420T175030
CREATED:20231117T190548Z
LAST-MODIFIED:20251023T181703Z
UID:10000058-1756128600-1766683800@acaocultural.org.br
SUMMARY:Talentos da Maturidade - Pintura em Tela
DESCRIPTION:Aula de Pintura em Tela para pessoas 60+.
URL:https://acaocultural.org.br/evento/inauguracao-da-cozinha-afetiva/2025-08-25/
LOCATION:Casa Ação Cultural\, Rua Monsenhor Augusto Zucco\, 653\, Tijucas\, Santa Catarina\, Brasil
END:VEVENT
BEGIN:VEVENT
DTSTART;TZID=America/Sao_Paulo:20250901T133000
DTEND;TZID=America/Sao_Paulo:20260101T173000
DTSTAMP:20260420T175030
CREATED:20231117T190548Z
LAST-MODIFIED:20251023T181703Z
UID:10000059-1756733400-1767288600@acaocultural.org.br
SUMMARY:Talentos da Maturidade - Pintura em Tela
DESCRIPTION:Aula de Pintura em Tela para pessoas 60+.
URL:https://acaocultural.org.br/evento/inauguracao-da-cozinha-afetiva/2025-09-01/
LOCATION:Casa Ação Cultural\, Rua Monsenhor Augusto Zucco\, 653\, Tijucas\, Santa Catarina\, Brasil
END:VEVENT
BEGIN:VEVENT
DTSTART;TZID=America/Sao_Paulo:20250908T133000
DTEND;TZID=America/Sao_Paulo:20260108T173000
DTSTAMP:20260420T175030
CREATED:20231117T190548Z
LAST-MODIFIED:20251023T181703Z
UID:10000060-1757338200-1767893400@acaocultural.org.br
SUMMARY:Talentos da Maturidade - Pintura em Tela
DESCRIPTION:Aula de Pintura em Tela para pessoas 60+.
URL:https://acaocultural.org.br/evento/inauguracao-da-cozinha-afetiva/2025-09-08/
LOCATION:Casa Ação Cultural\, Rua Monsenhor Augusto Zucco\, 653\, Tijucas\, Santa Catarina\, Brasil
END:VEVENT
BEGIN:VEVENT
DTSTART;TZID=America/Sao_Paulo:20250915T133000
DTEND;TZID=America/Sao_Paulo:20260115T173000
DTSTAMP:20260420T175030
CREATED:20231117T190548Z
LAST-MODIFIED:20251023T181703Z
UID:10000061-1757943000-1768498200@acaocultural.org.br
SUMMARY:Talentos da Maturidade - Pintura em Tela
DESCRIPTION:Aula de Pintura em Tela para pessoas 60+.
URL:https://acaocultural.org.br/evento/inauguracao-da-cozinha-afetiva/2025-09-15/
LOCATION:Casa Ação Cultural\, Rua Monsenhor Augusto Zucco\, 653\, Tijucas\, Santa Catarina\, Brasil
END:VEVENT
BEGIN:VEVENT
DTSTART;TZID=America/Sao_Paulo:20250922T133000
DTEND;TZID=America/Sao_Paulo:20260122T173000
DTSTAMP:20260420T175030
CREATED:20231117T190548Z
LAST-MODIFIED:20251023T181703Z
UID:10000062-1758547800-1769103000@acaocultural.org.br
SUMMARY:Talentos da Maturidade - Pintura em Tela
DESCRIPTION:Aula de Pintura em Tela para pessoas 60+.
URL:https://acaocultural.org.br/evento/inauguracao-da-cozinha-afetiva/2025-09-22/
LOCATION:Casa Ação Cultural\, Rua Monsenhor Augusto Zucco\, 653\, Tijucas\, Santa Catarina\, Brasil
END:VEVENT
BEGIN:VEVENT
DTSTART;TZID=America/Sao_Paulo:20250929T133000
DTEND;TZID=America/Sao_Paulo:20260129T173000
DTSTAMP:20260420T175030
CREATED:20231117T190548Z
LAST-MODIFIED:20251023T181703Z
UID:10000063-1759152600-1769707800@acaocultural.org.br
SUMMARY:Talentos da Maturidade - Pintura em Tela
DESCRIPTION:Aula de Pintura em Tela para pessoas 60+.
URL:https://acaocultural.org.br/evento/inauguracao-da-cozinha-afetiva/2025-09-29/
LOCATION:Casa Ação Cultural\, Rua Monsenhor Augusto Zucco\, 653\, Tijucas\, Santa Catarina\, Brasil
END:VEVENT
BEGIN:VEVENT
DTSTART;TZID=America/Sao_Paulo:20251006T133000
DTEND;TZID=America/Sao_Paulo:20260205T173000
DTSTAMP:20260420T175030
CREATED:20231117T190548Z
LAST-MODIFIED:20251023T181703Z
UID:10000064-1759757400-1770312600@acaocultural.org.br
SUMMARY:Talentos da Maturidade - Pintura em Tela
DESCRIPTION:Aula de Pintura em Tela para pessoas 60+.
URL:https://acaocultural.org.br/evento/inauguracao-da-cozinha-afetiva/2025-10-06/
LOCATION:Casa Ação Cultural\, Rua Monsenhor Augusto Zucco\, 653\, Tijucas\, Santa Catarina\, Brasil
END:VEVENT
BEGIN:VEVENT
DTSTART;TZID=America/Sao_Paulo:20251013T133000
DTEND;TZID=America/Sao_Paulo:20260212T173000
DTSTAMP:20260420T175030
CREATED:20231117T190548Z
LAST-MODIFIED:20251023T181703Z
UID:10000065-1760362200-1770917400@acaocultural.org.br
SUMMARY:Talentos da Maturidade - Pintura em Tela
DESCRIPTION:Aula de Pintura em Tela para pessoas 60+.
URL:https://acaocultural.org.br/evento/inauguracao-da-cozinha-afetiva/2025-10-13/
LOCATION:Casa Ação Cultural\, Rua Monsenhor Augusto Zucco\, 653\, Tijucas\, Santa Catarina\, Brasil
END:VEVENT
BEGIN:VEVENT
DTSTART;TZID=America/Sao_Paulo:20251020T133000
DTEND;TZID=America/Sao_Paulo:20251222T173000
DTSTAMP:20260420T175030
CREATED:20231117T190948Z
LAST-MODIFIED:20251023T180814Z
UID:10000009-1760967000-1766424600@acaocultural.org.br
SUMMARY:OFICINA - Culinária Regional
DESCRIPTION:Oficina na Cozinha Afetiva da Casa Ação Cultural.
URL:https://acaocultural.org.br/evento/oficina-culinaria-regional/2025-10-20/
END:VEVENT
BEGIN:VEVENT
DTSTART;TZID=America/Sao_Paulo:20251020T133000
DTEND;TZID=America/Sao_Paulo:20260219T173000
DTSTAMP:20260420T175030
CREATED:20231117T190548Z
LAST-MODIFIED:20251023T181703Z
UID:10000066-1760967000-1771522200@acaocultural.org.br
SUMMARY:Talentos da Maturidade - Pintura em Tela
DESCRIPTION:Aula de Pintura em Tela para pessoas 60+.
URL:https://acaocultural.org.br/evento/inauguracao-da-cozinha-afetiva/2025-10-20/
LOCATION:Casa Ação Cultural\, Rua Monsenhor Augusto Zucco\, 653\, Tijucas\, Santa Catarina\, Brasil
END:VEVENT
BEGIN:VEVENT
DTSTART;TZID=America/Sao_Paulo:20251027T133000
DTEND;TZID=America/Sao_Paulo:20251229T173000
DTSTAMP:20260420T175030
CREATED:20231117T190948Z
LAST-MODIFIED:20251023T180814Z
UID:10000010-1761571800-1767029400@acaocultural.org.br
SUMMARY:OFICINA - Culinária Regional
DESCRIPTION:Oficina na Cozinha Afetiva da Casa Ação Cultural.
URL:https://acaocultural.org.br/evento/oficina-culinaria-regional/2025-10-27/
END:VEVENT
BEGIN:VEVENT
DTSTART;TZID=America/Sao_Paulo:20251027T133000
DTEND;TZID=America/Sao_Paulo:20260226T173000
DTSTAMP:20260420T175030
CREATED:20231117T190548Z
LAST-MODIFIED:20251023T181703Z
UID:10000067-1761571800-1772127000@acaocultural.org.br
SUMMARY:Talentos da Maturidade - Pintura em Tela
DESCRIPTION:Aula de Pintura em Tela para pessoas 60+.
URL:https://acaocultural.org.br/evento/inauguracao-da-cozinha-afetiva/2025-10-27/
LOCATION:Casa Ação Cultural\, Rua Monsenhor Augusto Zucco\, 653\, Tijucas\, Santa Catarina\, Brasil
END:VEVENT
BEGIN:VEVENT
DTSTART;TZID=America/Sao_Paulo:20251103T133000
DTEND;TZID=America/Sao_Paulo:20260105T173000
DTSTAMP:20260420T175030
CREATED:20231117T190948Z
LAST-MODIFIED:20251023T180814Z
UID:10000011-1762176600-1767634200@acaocultural.org.br
SUMMARY:OFICINA - Culinária Regional
DESCRIPTION:Oficina na Cozinha Afetiva da Casa Ação Cultural.
URL:https://acaocultural.org.br/evento/oficina-culinaria-regional/2025-11-03/
END:VEVENT
BEGIN:VEVENT
DTSTART;TZID=America/Sao_Paulo:20251103T133000
DTEND;TZID=America/Sao_Paulo:20260305T173000
DTSTAMP:20260420T175030
CREATED:20231117T190548Z
LAST-MODIFIED:20251023T181703Z
UID:10000068-1762176600-1772731800@acaocultural.org.br
SUMMARY:Talentos da Maturidade - Pintura em Tela
DESCRIPTION:Aula de Pintura em Tela para pessoas 60+.
URL:https://acaocultural.org.br/evento/inauguracao-da-cozinha-afetiva/2025-11-03/
LOCATION:Casa Ação Cultural\, Rua Monsenhor Augusto Zucco\, 653\, Tijucas\, Santa Catarina\, Brasil
END:VEVENT
BEGIN:VEVENT
DTSTART;TZID=America/Sao_Paulo:20251110T133000
DTEND;TZID=America/Sao_Paulo:20260112T173000
DTSTAMP:20260420T175030
CREATED:20231117T190948Z
LAST-MODIFIED:20251023T180814Z
UID:10000012-1762781400-1768239000@acaocultural.org.br
SUMMARY:OFICINA - Culinária Regional
DESCRIPTION:Oficina na Cozinha Afetiva da Casa Ação Cultural.
URL:https://acaocultural.org.br/evento/oficina-culinaria-regional/2025-11-10/
END:VEVENT
BEGIN:VEVENT
DTSTART;TZID=America/Sao_Paulo:20251110T133000
DTEND;TZID=America/Sao_Paulo:20260312T173000
DTSTAMP:20260420T175030
CREATED:20231117T190548Z
LAST-MODIFIED:20251023T181703Z
UID:10000069-1762781400-1773336600@acaocultural.org.br
SUMMARY:Talentos da Maturidade - Pintura em Tela
DESCRIPTION:Aula de Pintura em Tela para pessoas 60+.
URL:https://acaocultural.org.br/evento/inauguracao-da-cozinha-afetiva/2025-11-10/
LOCATION:Casa Ação Cultural\, Rua Monsenhor Augusto Zucco\, 653\, Tijucas\, Santa Catarina\, Brasil
END:VEVENT
BEGIN:VEVENT
DTSTART;TZID=America/Sao_Paulo:20251117T133000
DTEND;TZID=America/Sao_Paulo:20260119T173000
DTSTAMP:20260420T175030
CREATED:20231117T190948Z
LAST-MODIFIED:20251023T180814Z
UID:10000013-1763386200-1768843800@acaocultural.org.br
SUMMARY:OFICINA - Culinária Regional
DESCRIPTION:Oficina na Cozinha Afetiva da Casa Ação Cultural.
URL:https://acaocultural.org.br/evento/oficina-culinaria-regional/2025-11-17/
END:VEVENT
BEGIN:VEVENT
DTSTART;TZID=America/Sao_Paulo:20251117T133000
DTEND;TZID=America/Sao_Paulo:20260319T173000
DTSTAMP:20260420T175030
CREATED:20231117T190548Z
LAST-MODIFIED:20251023T181703Z
UID:10000070-1763386200-1773941400@acaocultural.org.br
SUMMARY:Talentos da Maturidade - Pintura em Tela
DESCRIPTION:Aula de Pintura em Tela para pessoas 60+.
URL:https://acaocultural.org.br/evento/inauguracao-da-cozinha-afetiva/2025-11-17/
LOCATION:Casa Ação Cultural\, Rua Monsenhor Augusto Zucco\, 653\, Tijucas\, Santa Catarina\, Brasil
END:VEVENT
BEGIN:VEVENT
DTSTART;TZID=America/Sao_Paulo:20251124T133000
DTEND;TZID=America/Sao_Paulo:20260126T173000
DTSTAMP:20260420T175030
CREATED:20231117T190948Z
LAST-MODIFIED:20251023T180814Z
UID:10000014-1763991000-1769448600@acaocultural.org.br
SUMMARY:OFICINA - Culinária Regional
DESCRIPTION:Oficina na Cozinha Afetiva da Casa Ação Cultural.
URL:https://acaocultural.org.br/evento/oficina-culinaria-regional/2025-11-24/
END:VEVENT
BEGIN:VEVENT
DTSTART;TZID=America/Sao_Paulo:20251124T133000
DTEND;TZID=America/Sao_Paulo:20260326T173000
DTSTAMP:20260420T175030
CREATED:20231117T190548Z
LAST-MODIFIED:20251023T181703Z
UID:10000071-1763991000-1774546200@acaocultural.org.br
SUMMARY:Talentos da Maturidade - Pintura em Tela
DESCRIPTION:Aula de Pintura em Tela para pessoas 60+.
URL:https://acaocultural.org.br/evento/inauguracao-da-cozinha-afetiva/2025-11-24/
LOCATION:Casa Ação Cultural\, Rua Monsenhor Augusto Zucco\, 653\, Tijucas\, Santa Catarina\, Brasil
END:VEVENT
END:VCALENDAR